Workbook

Sheet 停考考点一览表（84家停考）
A1: 12月份统考停考考点一览表 更新时间：2021年12月16日 考点防疫要求一览表会根据实际情况实时更新，请各位考生随时关注CDCE网及统考公众号相关通知，按照防疫要求参加考试。
A2: 序号 | B2: 省份 | C2: 城市 | D2: 考点代码 | E2: 考点名称
A3: 1 | B3: 安徽省 | C3: 宿州市 | D3: =VLOOKUP(E:E,[1]安排表原表!$F:$I,4,0) -> 340012 | E3: 安徽广播电视大学宿州市分校
A4: 2 | B4: 北京市 | C4: 朝阳区 | D4: =VLOOKUP(E:E,[1]安排表原表!$F:$I,4,0) -> 110010 | E4: 北京市现代商务培训中心
A5: 3 | B5: 黑龙江省 | C5: 哈尔滨市 | D5: =VLOOKUP(E:E,[1]安排表原表!$F:$I,4,0) -> 230001 | E5: 哈尔滨广播电视大学
A6: 4 | B6: 黑龙江省 | C6: 哈尔滨市 | D6: =VLOOKUP(E:E,[1]安排表原表!$F:$I,4,0) -> 230025 | E6: 哈尔滨广播电视大学巴彦分校
A7: 5 | B7: 黑龙江省 | C7: 哈尔滨市 | D7: =VLOOKUP(E:E,[1]安排表原表!$F:$I,4,0) -> 230042 | E7: 哈尔滨广播电视大学阿城分校
A8: 6 | B8: 黑龙江省 | C8: 哈尔滨市 | D8: =VLOOKUP(E:E,[1]安排表原表!$F:$I,4,0) -> 660006 | E8: 奥鹏教育哈尔滨学习中心
A9: 7 | B9: 黑龙江省 | C9: 哈尔滨市 | D9: =VLOOKUP(E:E,[1]安排表原表!$F:$I,4,0) -> 230002 | E9: 黑龙江广播电视大学
A10: 8 | B10: 黑龙江省 | C10: 牡丹江市 | D10: =VLOOKUP(E:E,[1]安排表原表!$F:$I,4,0) -> 230028 | E10: 牡丹江林区广播电视大学
A11: 9 | B11: 黑龙江省 | C11: 齐齐哈尔市 | D11: =VLOOKUP(E:E,[1]安排表原表!$F:$I,4,0) -> 230011 | E11: 齐齐哈尔市广播电视大学
A12: 10 | B12: 河南省 | C12: 安阳市 | D12: =VLOOKUP(E:E,[1]安排表原表!$F:$I,4,0) -> 410006 | E12: 安阳广播电视大学
A13: 11 | B13: 河南省 | C13: 开封市 | D13: =VLOOKUP(E:E,[1]安排表原表!$F:$I,4,0) -> 410009 | E13: 开封市广播电视大学
A14: 12 | B14: 河南省 | C14: 焦作市 | D14: =VLOOKUP(E:E,[1]安排表原表!$F:$I,4,0) -> 410022 | E14: 焦作广播电视大学武陟分校
... A86: 84 | B86: 西藏自治区 | C86: 日喀则地区 | D86: =VLOOKUP(E:E,[1]安排表原表!$F:$I,4,0) -> 540003 | E86: 国家开放大学西藏学院（日喀则地区教学中心）
